Package: consensus Version: 1.26.0 Maintainer: Tim Peters MaintainerEmail: t.peters at garvan.org.au git_url: https://git.bioconductor.org/packages/consensus git_branch: RELEASE_3_21 git_last_commit: 4ac9602 git_last_commit_date: 2025-04-15 11:35:45 -0400 (Tue, 15 Apr 2025)