Package: consICA Version: 2.4.0 Command: /home/biocbuild/R/R/bin/R CMD check --install=check:consICA.install-out.txt --library=/home/biocbuild/R/R/site-library --no-vignettes --timings consICA_2.4.0.tar.gz StartedAt: 2025-01-31 05:09:57 -0000 (Fri, 31 Jan 2025) EndedAt: 2025-01-31 05:23:46 -0000 (Fri, 31 Jan 2025) EllapsedTime: 828.7 seconds RetCode: 0 Status: OK CheckDir: consICA.Rcheck Warnings: 0