Package: consICA Version: 2.6.0 Command: /home/biocbuild/bbs-3.21-bioc/R/bin/R CMD build --keep-empty-dirs --no-resave-data consICA StartedAt: 2025-10-08 16:54:26 -0400 (Wed, 08 Oct 2025) EndedAt: 2025-10-08 16:55:37 -0400 (Wed, 08 Oct 2025) EllapsedTime: 71.1 seconds RetCode: 0 Status: OK PackageFile: consICA_2.6.0.tar.gz PackageFileSize: 3.488 MiB