Package: consICA Version: 2.8.0 Command: rm -rf consICA.buildbin-libdir && mkdir consICA.buildbin-libdir && /Users/biocbuild/BBS/utils/build-universal.sh consICA_2.8.0.tar.gz /Library/Frameworks/R.framework/Resources/bin/R consICA.buildbin-libdir StartedAt: 2025-11-09 23:03:42 -0500 (Sun, 09 Nov 2025) EndedAt: 2025-11-09 23:03:58 -0500 (Sun, 09 Nov 2025) EllapsedTime: 15.2 seconds RetCode: 0 Status: OK PackageFile: consICA_2.8.0.tgz PackageFileSize: 3.143 MiB