Package: condiments Version: 1.14.0 Command: /home/biocbuild/R/R/bin/R CMD INSTALL condiments StartedAt: 2025-01-30 21:02:07 -0000 (Thu, 30 Jan 2025) EndedAt: 2025-01-30 21:02:51 -0000 (Thu, 30 Jan 2025) EllapsedTime: 44.0 seconds RetCode: 0 Status: OK