Package: condiments Version: 1.16.0 Command: rm -rf condiments.buildbin-libdir && mkdir condiments.buildbin-libdir && E:\biocbuild\bbs-3.21-bioc\R\bin\R.exe CMD INSTALL --build --library=condiments.buildbin-libdir condiments_1.16.0.tar.gz StartedAt: 2025-08-15 09:02:40 -0400 (Fri, 15 Aug 2025) EndedAt: 2025-08-15 09:03:44 -0400 (Fri, 15 Aug 2025) EllapsedTime: 63.7 seconds RetCode: 0 Status: OK PackageFile: condiments_1.16.0.zip PackageFileSize: 1.234 MiB