Package: concordexR Version: 1.6.0 Command: /home/biocbuild/R/R/bin/R CMD INSTALL concordexR StartedAt: 2025-01-30 20:26:21 -0000 (Thu, 30 Jan 2025) EndedAt: 2025-01-30 20:26:50 -0000 (Thu, 30 Jan 2025) EllapsedTime: 29.0 seconds RetCode: 0 Status: OK