Package: concordexR Version: 1.6.0 Command: /Library/Frameworks/R.framework/Resources/bin/R CMD INSTALL concordexR StartedAt: 2025-01-30 15:37:18 -0500 (Thu, 30 Jan 2025) EndedAt: 2025-01-30 15:38:11 -0500 (Thu, 30 Jan 2025) EllapsedTime: 53.3 seconds RetCode: 0 Status: OK