Package: concordexR Version: 1.8.0 Command: /Library/Frameworks/R.framework/Resources/bin/R CMD check --install=check:concordexR.install-out.txt --library=/Library/Frameworks/R.framework/Resources/library --no-vignettes --timings concordexR_1.8.0.tar.gz StartedAt: 2025-04-21 18:45:57 -0400 (Mon, 21 Apr 2025) EndedAt: 2025-04-21 18:47:26 -0400 (Mon, 21 Apr 2025) EllapsedTime: 89.1 seconds RetCode: 0 Status: OK CheckDir: concordexR.Rcheck Warnings: 0