Package: compcodeR Version: 1.44.0 Command: /Library/Frameworks/R.framework/Resources/bin/R CMD INSTALL compcodeR StartedAt: 2025-07-10 15:19:07 -0400 (Thu, 10 Jul 2025) EndedAt: 2025-07-10 15:19:23 -0400 (Thu, 10 Jul 2025) EllapsedTime: 16.5 seconds RetCode: 0 Status: OK