Package: compSPOT Version: 1.6.0 Command: /home/biocbuild/bbs-3.21-bioc/R/bin/R CMD build --keep-empty-dirs --no-resave-data compSPOT StartedAt: 2025-09-28 17:08:04 -0400 (Sun, 28 Sep 2025) EndedAt: 2025-09-28 17:08:27 -0400 (Sun, 28 Sep 2025) EllapsedTime: 23.0 seconds RetCode: 0 Status: OK PackageFile: compSPOT_1.6.0.tar.gz PackageFileSize: 436.6 KiB