Package: compEpiTools Version: 1.42.0 Command: /home/biocbuild/bbs-3.21-bioc/R/bin/R CMD INSTALL compEpiTools StartedAt: 2025-10-08 15:48:02 -0400 (Wed, 08 Oct 2025) EndedAt: 2025-10-08 15:49:00 -0400 (Wed, 08 Oct 2025) EllapsedTime: 57.9 seconds RetCode: 0 Status: OK