Package: cola Version: 2.14.0 Command: /Library/Frameworks/R.framework/Resources/bin/R CMD INSTALL cola StartedAt: 2025-05-22 15:27:29 -0400 (Thu, 22 May 2025) EndedAt: 2025-05-22 15:28:23 -0400 (Thu, 22 May 2025) EllapsedTime: 53.4 seconds RetCode: 0 Status: OK