Package: cogeqc Version: 1.10.0 Command: /home/biocbuild/R/R/bin/R CMD check --install=check:cogeqc.install-out.txt --library=/home/biocbuild/R/R/site-library --no-vignettes --timings cogeqc_1.10.0.tar.gz StartedAt: 2025-01-31 05:05:30 -0000 (Fri, 31 Jan 2025) EndedAt: 2025-01-31 05:08:45 -0000 (Fri, 31 Jan 2025) EllapsedTime: 195.2 seconds RetCode: 0 Status: OK CheckDir: cogeqc.Rcheck Warnings: 0