Package: cogeqc Version: 1.12.0 Command: /Library/Frameworks/R.framework/Resources/bin/R CMD build --keep-empty-dirs --no-resave-data cogeqc StartedAt: 2025-05-05 17:56:33 -0400 (Mon, 05 May 2025) EndedAt: 2025-05-05 18:00:37 -0400 (Mon, 05 May 2025) EllapsedTime: 244.0 seconds RetCode: 0 Status: OK PackageFile: cogeqc_1.12.0.tar.gz PackageFileSize: 3.332 MiB