Package: cogena Version: 1.42.0 Maintainer: Zhilong Jia MaintainerEmail: zhilongjia at gmail.com git_url: https://git.bioconductor.org/packages/cogena git_branch: RELEASE_3_21 git_last_commit: 3157905 git_last_commit_date: 2025-04-15 10:50:07 -0400 (Tue, 15 Apr 2025)