Package: coRdon Version: 1.26.0 Command: /Library/Frameworks/R.framework/Resources/bin/R CMD INSTALL coRdon StartedAt: 2025-05-05 15:37:03 -0400 (Mon, 05 May 2025) EndedAt: 2025-05-05 15:37:21 -0400 (Mon, 05 May 2025) EllapsedTime: 18.0 seconds RetCode: 0 Status: OK