Package: coRdon Version: 1.26.0 Command: /Library/Frameworks/R.framework/Resources/bin/R CMD build --keep-empty-dirs --no-resave-data coRdon StartedAt: 2025-05-05 21:38:05 -0400 (Mon, 05 May 2025) EndedAt: 2025-05-05 21:39:00 -0400 (Mon, 05 May 2025) EllapsedTime: 55.3 seconds RetCode: 0 Status: OK PackageFile: coRdon_1.26.0.tar.gz PackageFileSize: 2.365 MiB