Package: coMethDMR Version: 1.12.0 Maintainer: Fernanda Veitzman MaintainerEmail: fveit001 at fiu.edu git_url: https://git.bioconductor.org/packages/coMethDMR git_branch: RELEASE_3_21 git_last_commit: 0d1b6ae git_last_commit_date: 2025-04-15 12:43:53 -0400 (Tue, 15 Apr 2025)