Package: coMET Version: 1.40.0 Command: E:\biocbuild\bbs-3.21-bioc\R\bin\R.exe CMD INSTALL coMET StartedAt: 2025-08-14 17:02:45 -0400 (Thu, 14 Aug 2025) EndedAt: 2025-08-14 17:04:56 -0400 (Thu, 14 Aug 2025) EllapsedTime: 131.2 seconds RetCode: 0 Status: OK