Package: coMET Version: 1.40.0 Maintainer: Tiphaine Martin MaintainerEmail: tiphaine.martin at mssm.edu git_url: https://git.bioconductor.org/packages/coMET git_branch: RELEASE_3_21 git_last_commit: 4cc3c35 git_last_commit_date: 2025-04-15 12:59:28 -0400 (Tue, 15 Apr 2025)