Package: coGPS Version: 1.50.0 Command: F:\biocbuild\bbs-3.20-bioc\R\bin\R.exe CMD check --no-multiarch --install=check:coGPS.install-out.txt --library=F:\biocbuild\bbs-3.20-bioc\R\library --no-vignettes --timings coGPS_1.50.0.tar.gz StartedAt: 2025-01-31 00:43:54 -0500 (Fri, 31 Jan 2025) EndedAt: 2025-01-31 00:44:33 -0500 (Fri, 31 Jan 2025) EllapsedTime: 39.4 seconds RetCode: 0 Status: OK CheckDir: coGPS.Rcheck Warnings: 0