Package: coGPS Version: 1.50.0 Command: /home/biocbuild/bbs-3.20-bioc/R/bin/R CMD check --install=check:coGPS.install-out.txt --library=/home/biocbuild/bbs-3.20-bioc/R/site-library --timings coGPS_1.50.0.tar.gz StartedAt: 2025-01-30 21:00:10 -0500 (Thu, 30 Jan 2025) EndedAt: 2025-01-30 21:00:38 -0500 (Thu, 30 Jan 2025) EllapsedTime: 28.0 seconds RetCode: 0 Status: OK CheckDir: coGPS.Rcheck Warnings: 0