Package: coGPS Version: 1.50.0 Command: /Library/Frameworks/R.framework/Resources/bin/R CMD build --keep-empty-dirs --no-resave-data coGPS StartedAt: 2025-01-30 18:06:19 -0500 (Thu, 30 Jan 2025) EndedAt: 2025-01-30 18:06:50 -0500 (Thu, 30 Jan 2025) EllapsedTime: 31.5 seconds RetCode: 0 Status: OK PackageFile: coGPS_1.50.0.tar.gz PackageFileSize: 1.761 MiB