Package: coGPS
Version: 1.50.0
Command: rm -rf coGPS.buildbin-libdir && mkdir coGPS.buildbin-libdir && /Users/biocbuild/BBS/utils/build-universal.sh coGPS_1.50.0.tar.gz /Library/Frameworks/R.framework/Resources/bin/R coGPS.buildbin-libdir
StartedAt: 2025-02-15 14:48:15 -0500 (Sat, 15 Feb 2025)
EndedAt: 2025-02-15 14:48:18 -0500 (Sat, 15 Feb 2025)
EllapsedTime: 3.5 seconds
RetCode: 0
Status: OK
PackageFile: coGPS_1.50.0.tgz
PackageFileSize: 1.788 <A href="http://en.wikipedia.org/wiki/MiB" target="_blank">MiB</A>