Package: clustifyr Version: 1.18.0 Command: /home/biocbuild/R/R/bin/R CMD check --install=check:clustifyr.install-out.txt --library=/home/biocbuild/R/R/site-library --no-vignettes --timings clustifyr_1.18.0.tar.gz StartedAt: 2025-01-31 05:01:11 -0000 (Fri, 31 Jan 2025) EndedAt: 2025-01-31 05:13:59 -0000 (Fri, 31 Jan 2025) EllapsedTime: 768.8 seconds RetCode: 0 Status: OK CheckDir: clustifyr.Rcheck Warnings: 0