Package: clusterSeq Version: 1.32.0 Command: rm -rf clusterSeq.buildbin-libdir && mkdir clusterSeq.buildbin-libdir && E:\biocbuild\bbs-3.21-bioc\R\bin\R.exe CMD INSTALL --build --library=clusterSeq.buildbin-libdir clusterSeq_1.32.0.tar.gz StartedAt: 2025-08-15 09:00:41 -0400 (Fri, 15 Aug 2025) EndedAt: 2025-08-15 09:01:03 -0400 (Fri, 15 Aug 2025) EllapsedTime: 21.5 seconds RetCode: 0 Status: OK PackageFile: clusterSeq_1.32.0.zip PackageFileSize: 1.057 MiB