Package: clusterProfiler Version: 4.14.4 Command: /home/biocbuild/R/R/bin/R CMD INSTALL clusterProfiler StartedAt: 2025-01-30 20:51:30 -0000 (Thu, 30 Jan 2025) EndedAt: 2025-01-30 20:52:00 -0000 (Thu, 30 Jan 2025) EllapsedTime: 29.3 seconds RetCode: 0 Status: OK