Package: clusterProfiler Version: 4.16.0 Command: /Library/Frameworks/R.framework/Resources/bin/R CMD check --install=check:clusterProfiler.install-out.txt --library=/Library/Frameworks/R.framework/Resources/library --no-vignettes --timings clusterProfiler_4.16.0.tar.gz StartedAt: 2025-05-20 01:16:16 -0400 (Tue, 20 May 2025) EndedAt: 2025-05-20 01:23:35 -0400 (Tue, 20 May 2025) EllapsedTime: 438.7 seconds RetCode: 0 Status: OK CheckDir: clusterProfiler.Rcheck Warnings: 0