Package: clusterProfiler Version: 4.16.0 Command: /Library/Frameworks/R.framework/Resources/bin/R CMD build --keep-empty-dirs --no-resave-data clusterProfiler StartedAt: 2025-05-19 17:51:53 -0400 (Mon, 19 May 2025) EndedAt: 2025-05-19 17:52:51 -0400 (Mon, 19 May 2025) EllapsedTime: 58.5 seconds RetCode: 0 Status: OK PackageFile: clusterProfiler_4.16.0.tar.gz PackageFileSize: 611.1 KiB