Package: clusterProfiler Version: 4.16.0 Command: /home/biocbuild/R/R/bin/R CMD INSTALL clusterProfiler StartedAt: 2025-05-19 21:06:34 -0000 (Mon, 19 May 2025) EndedAt: 2025-05-19 21:07:09 -0000 (Mon, 19 May 2025) EllapsedTime: 34.9 seconds RetCode: 0 Status: OK