Package: clusterProfiler Version: 4.16.0 Command: rm -rf clusterProfiler.buildbin-libdir && mkdir clusterProfiler.buildbin-libdir && /Users/biocbuild/BBS/utils/build-universal.sh clusterProfiler_4.16.0.tar.gz /Library/Frameworks/R.framework/Resources/bin/R clusterProfiler.buildbin-libdir StartedAt: 2025-04-21 22:30:16 -0400 (Mon, 21 Apr 2025) EndedAt: 2025-04-21 22:30:26 -0400 (Mon, 21 Apr 2025) EllapsedTime: 10.3 seconds RetCode: 0 Status: OK PackageFile: clusterProfiler_4.16.0.tgz PackageFileSize: 1.021 MiB