Package: clustSIGNAL Version: 1.2.0 Command: /home/biocbuild/bbs-3.22-bioc/R/bin/R CMD check --install=check:clustSIGNAL.install-out.txt --library=/home/biocbuild/bbs-3.22-bioc/R/site-library --timings clustSIGNAL_1.2.0.tar.gz StartedAt: 2025-11-18 02:02:11 -0500 (Tue, 18 Nov 2025) EndedAt: 2025-11-18 02:08:14 -0500 (Tue, 18 Nov 2025) EllapsedTime: 362.3 seconds RetCode: 0 Status: OK CheckDir: clustSIGNAL.Rcheck Warnings: 0