Package: clustSIGNAL Version: 1.2.0 Command: /home/biocbuild/bbs-3.22-bioc/R/bin/R CMD build --keep-empty-dirs --no-resave-data --md5 clustSIGNAL StartedAt: 2025-11-16 16:59:59 -0500 (Sun, 16 Nov 2025) EndedAt: 2025-11-16 17:01:31 -0500 (Sun, 16 Nov 2025) EllapsedTime: 92.1 seconds RetCode: 0 Status: OK PackageFile: clustSIGNAL_1.2.0.tar.gz PackageFileSize: 4.519 MiB