Package: clustSIGNAL Version: 1.0.0 Command: /home/biocbuild/bbs-3.21-bioc/R/bin/R CMD INSTALL clustSIGNAL StartedAt: 2025-10-08 15:56:51 -0400 (Wed, 08 Oct 2025) EndedAt: 2025-10-08 15:57:22 -0400 (Wed, 08 Oct 2025) EllapsedTime: 31.0 seconds RetCode: 0 Status: OK