Package: clustSIGNAL Version: 1.0.0 Command: /home/biocbuild/bbs-3.21-bioc/R/bin/R CMD build --keep-empty-dirs --no-resave-data clustSIGNAL StartedAt: 2025-10-05 16:48:48 -0400 (Sun, 05 Oct 2025) EndedAt: 2025-10-05 16:50:20 -0400 (Sun, 05 Oct 2025) EllapsedTime: 92.1 seconds RetCode: 0 Status: OK PackageFile: clustSIGNAL_1.0.0.tar.gz PackageFileSize: 4.523 MiB