Package: clustSIGNAL Version: 1.0.0 Command: rm -rf clustSIGNAL.buildbin-libdir && mkdir clustSIGNAL.buildbin-libdir && /Users/biocbuild/BBS/utils/build-universal.sh clustSIGNAL_1.0.0.tar.gz /Library/Frameworks/R.framework/Resources/bin/R clustSIGNAL.buildbin-libdir StartedAt: 2025-10-14 13:04:45 -0400 (Tue, 14 Oct 2025) EndedAt: 2025-10-14 13:06:13 -0400 (Tue, 14 Oct 2025) EllapsedTime: 88.3 seconds RetCode: 0 Status: OK PackageFile: clustSIGNAL_1.0.0.tgz PackageFileSize: 4.621 MiB