Package: clustSIGNAL Version: 1.0.0 Command: /Library/Frameworks/R.framework/Resources/bin/R CMD INSTALL clustSIGNAL StartedAt: 2025-10-02 18:19:47 -0400 (Thu, 02 Oct 2025) EndedAt: 2025-10-02 18:20:25 -0400 (Thu, 02 Oct 2025) EllapsedTime: 38.1 seconds RetCode: 0 Status: OK