Package: clustSIGNAL Version: 1.0.0 Command: /Library/Frameworks/R.framework/Resources/bin/R CMD build --keep-empty-dirs --no-resave-data clustSIGNAL StartedAt: 2025-10-02 21:35:01 -0400 (Thu, 02 Oct 2025) EndedAt: 2025-10-02 21:36:59 -0400 (Thu, 02 Oct 2025) EllapsedTime: 118.1 seconds RetCode: 0 Status: OK PackageFile: clustSIGNAL_1.0.0.tar.gz PackageFileSize: 4.587 MiB