Package: clustComp Version: 1.36.0 Maintainer: Aurora Torrente MaintainerEmail: aurora at ebi.ac.uk git_url: https://git.bioconductor.org/packages/clustComp git_branch: RELEASE_3_21 git_last_commit: b1f0dbf git_last_commit_date: 2025-04-15 10:58:22 -0400 (Tue, 15 Apr 2025)