Package: clstutils Version: 1.56.0 Command: chmod a+r clstutils -R && E:\biocbuild\bbs-3.21-bioc\R\bin\R.exe CMD build --keep-empty-dirs --no-resave-data clstutils StartedAt: 2025-08-14 18:06:20 -0400 (Thu, 14 Aug 2025) EndedAt: 2025-08-14 18:07:32 -0400 (Thu, 14 Aug 2025) EllapsedTime: 71.6 seconds RetCode: 0 Status: OK PackageFile: clstutils_1.56.0.tar.gz PackageFileSize: 2.453 MiB