Package: clstutils Version: 1.56.0 Command: rm -rf clstutils.buildbin-libdir && mkdir clstutils.buildbin-libdir && E:\biocbuild\bbs-3.21-bioc\R\bin\R.exe CMD INSTALL --build --library=clstutils.buildbin-libdir clstutils_1.56.0.tar.gz StartedAt: 2025-08-15 09:00:21 -0400 (Fri, 15 Aug 2025) EndedAt: 2025-08-15 09:00:34 -0400 (Fri, 15 Aug 2025) EllapsedTime: 13.2 seconds RetCode: 0 Status: OK PackageFile: clstutils_1.56.0.zip PackageFileSize: 2.486 MiB