Package: clst Version: 1.54.0 Command: /home/biocbuild/R/R/bin/R CMD build --keep-empty-dirs --no-resave-data clst StartedAt: 2025-02-10 22:29:31 -0000 (Mon, 10 Feb 2025) EndedAt: 2025-02-10 22:29:50 -0000 (Mon, 10 Feb 2025) EllapsedTime: 19.0 seconds RetCode: 0 Status: OK PackageFile: clst_1.54.0.tar.gz PackageFileSize: 1.006 MiB