Package: clst Version: 1.54.0 Command: chmod a+r clst -R && F:\biocbuild\bbs-3.20-bioc\R\bin\R.exe CMD build --keep-empty-dirs --no-resave-data clst StartedAt: 2025-02-03 18:11:43 -0500 (Mon, 03 Feb 2025) EndedAt: 2025-02-03 18:12:10 -0500 (Mon, 03 Feb 2025) EllapsedTime: 26.5 seconds RetCode: 0 Status: OK PackageFile: clst_1.54.0.tar.gz PackageFileSize: 930.4 KiB