Package: clst Version: 1.54.0 Command: /home/biocbuild/bbs-3.20-bioc/R/bin/R CMD build --keep-empty-dirs --no-resave-data --md5 clst StartedAt: 2025-02-10 16:45:00 -0500 (Mon, 10 Feb 2025) EndedAt: 2025-02-10 16:45:15 -0500 (Mon, 10 Feb 2025) EllapsedTime: 15.0 seconds RetCode: 0 Status: OK PackageFile: clst_1.54.0.tar.gz PackageFileSize: 1.019 MiB