Package: cliqueMS Version: 1.22.0 Command: chmod a+r cliqueMS -R && E:\biocbuild\bbs-3.21-bioc\R\bin\R.exe CMD build --keep-empty-dirs --no-resave-data cliqueMS StartedAt: 2025-08-14 18:05:48 -0400 (Thu, 14 Aug 2025) EndedAt: 2025-08-14 18:08:36 -0400 (Thu, 14 Aug 2025) EllapsedTime: 167.5 seconds RetCode: 0 Status: OK PackageFile: cliqueMS_1.22.0.tar.gz PackageFileSize: 555.9 KiB