Package: clippda Version: 1.58.0 Command: /Library/Frameworks/R.framework/Resources/bin/R CMD check --install=check:clippda.install-out.txt --library=/Library/Frameworks/R.framework/Resources/library --no-vignettes --timings clippda_1.58.0.tar.gz StartedAt: 2025-04-21 18:39:47 -0400 (Mon, 21 Apr 2025) EndedAt: 2025-04-21 18:41:22 -0400 (Mon, 21 Apr 2025) EllapsedTime: 95.2 seconds RetCode: 0 Status: OK CheckDir: clippda.Rcheck Warnings: 0