Package: clippda Version: 1.58.0 Command: /Library/Frameworks/R.framework/Resources/bin/R CMD build --keep-empty-dirs --no-resave-data clippda StartedAt: 2025-04-21 15:55:08 -0400 (Mon, 21 Apr 2025) EndedAt: 2025-04-21 15:55:50 -0400 (Mon, 21 Apr 2025) EllapsedTime: 42.5 seconds RetCode: 0 Status: OK PackageFile: clippda_1.58.0.tar.gz PackageFileSize: 1.495 MiB