Package: cliProfiler Version: 1.14.0 Command: /home/biocbuild/bbs-3.21-bioc/R/bin/R CMD INSTALL cliProfiler StartedAt: 2025-10-12 15:29:26 -0400 (Sun, 12 Oct 2025) EndedAt: 2025-10-12 15:30:01 -0400 (Sun, 12 Oct 2025) EllapsedTime: 35.1 seconds RetCode: 0 Status: OK