Package: clevRvis Version: 1.6.0 Command: chmod a+r clevRvis -R && F:\biocbuild\bbs-3.20-bioc\R\bin\R.exe CMD build --keep-empty-dirs --no-resave-data clevRvis StartedAt: 2025-01-30 17:57:54 -0500 (Thu, 30 Jan 2025) EndedAt: 2025-01-30 17:58:42 -0500 (Thu, 30 Jan 2025) EllapsedTime: 48.3 seconds RetCode: 0 Status: OK PackageFile: clevRvis_1.6.0.tar.gz PackageFileSize: 1.955 MiB